BEGIN:VCALENDAR
VERSION:2.0
PRODID:-//Tukios.com/
BEGIN:VEVENT
UID:3c7f43a9-1ed9-447a-9d47-70b4ca73723a@www.lrbfh.com
DTSTAMP:20260422T230733Z
DTSTART:20260429T200000Z
DTEND:20260430T000000Z
SUMMARY:Visitation
DESCRIPTION:
URL:https://www.lrbfh.com/obituaries/michael-cosme
LOCATION: 1055 E Jersey St  Elizabeth NJ 07201
GEO:40.6637037;-74.2093024
END:VEVENT
END:VCALENDAR