BEGIN:VCALENDAR
VERSION:2.0
PRODID:-//Tukios.com/
BEGIN:VEVENT
UID:faa0ca2b-7ea1-4334-a617-d0104872d8e9@www.lrbfh.com
DTSTAMP:20260422T011747Z
DTSTART:20260426T160000Z
DTEND:20260426T200000Z
SUMMARY:Visitation
DESCRIPTION:
URL:https://www.lrbfh.com/obituaries/joao-regio-do-nacimento
LOCATION: 1055 E Jersey St  Elizabeth NJ 07201
GEO:40.6637037;-74.2093024
END:VEVENT
END:VCALENDAR