BEGIN:VCALENDAR
VERSION:2.0
PRODID:-//Tukios.com/
BEGIN:VEVENT
UID:8bb62c4e-c129-46b8-97e9-1453a00b4923@www.lrbfh.com
DTSTAMP:20260424T163220Z
DTSTART:20260424T200000Z
DTEND:20260425T000000Z
SUMMARY:Visitation
DESCRIPTION:
URL:https://www.lrbfh.com/obituaries/jairo-bejarano
LOCATION:Las Rosas Bannworth Funeral Home 1055 E Jersey St  Elizabeth NJ 
	07201
GEO:40.6637037;-74.2093024
END:VEVENT
END:VCALENDAR